BEGIN:VCALENDAR
VERSION:2.0
PRODID:-//Parc National Du Mali - ECPv6.6.4.2//NONSGML v1.0//EN
CALSCALE:GREGORIAN
METHOD:PUBLISH
X-WR-CALNAME:Parc National Du Mali
X-ORIGINAL-URL:https://parcnationaldumali.com
X-WR-CALDESC:évènements pour Parc National Du Mali
REFRESH-INTERVAL;VALUE=DURATION:PT1H
X-Robots-Tag:noindex
X-PUBLISHED-TTL:PT1H
BEGIN:VTIMEZONE
TZID:UTC
BEGIN:STANDARD
TZOFFSETFROM:+0000
TZOFFSETTO:+0000
TZNAME:UTC
DTSTART:20260101T000000
END:STANDARD
END:VTIMEZONE
BEGIN:VEVENT
DTSTART;TZID=UTC:20260805T100000
DTEND;TZID=UTC:20260917T173000
DTSTAMP:20260419T153224
CREATED:20180413T072232Z
LAST-MODIFIED:20240123T034929Z
UID:288-1785924000-1789666200@parcnationaldumali.com
SUMMARY:Party for the Planet
DESCRIPTION:Ut wisi enim ad minim veniam\, quis nostrud exerci tation ul lamcorper suscipit lobortis nisl ut aliquip ex ea commodo con sequat. Duis autem vel eum iriure dolor in hendrerit in vulpu tate velit esse molestie consequat\, vel illum dolore eu feugiat nulla facilisis at vero eros et accumsan et iusto odio dignissim qui blandit praesent luptatum zzril delenit augue duis dolore te feugait nulla facilisi. \nDolor in hendrerit in vulputate velit esse molestie consequat\, vel illum dolore eu feugiat nulla facilisis at vero eros et accum san et iusto odio dignissim qui blandit praesent luptatum zzril delenit augue duis dolore te feugait nulla facilisi.
URL:https://parcnationaldumali.com/event/party-for-the-planet/
LOCATION:Bonko Zoo\, 167 Cathedral Ave\, Hempstead\, NY\, 11550\, United States
ATTACH;FMTTYPE=image/jpeg:https://parcnationaldumali.com/wp-content/uploads/2018/04/blog-12-copyright-min.jpg
END:VEVENT
BEGIN:VEVENT
DTSTART;TZID=UTC:20270110T093000
DTEND;TZID=UTC:20270621T170000
DTSTAMP:20260419T153224
CREATED:20180413T073113Z
LAST-MODIFIED:20240119T123335Z
UID:294-1799573400-1813597200@parcnationaldumali.com
SUMMARY:Earth Day
DESCRIPTION:Ut wisi enim ad minim veniam\, quis nostrud exerci tation ul lamcorper suscipit lobortis nisl ut aliquip ex ea commodo con sequat. Duis autem vel eum iriure dolor in hendrerit in vulpu tate velit esse molestie consequat\, vel illum dolore eu feugiat nulla facilisis at vero eros et accumsan et iusto odio dignissim qui blandit praesent luptatum zzril delenit augue duis dolore te feugait nulla facilisi. \nDolor in hendrerit in vulputate velit esse molestie consequat\, vel illum dolore eu feugiat nulla facilisis at vero eros et accum san et iusto odio dignissim qui blandit praesent luptatum zzril delenit augue duis dolore te feugait nulla facilisi.
URL:https://parcnationaldumali.com/event/earth-day/
LOCATION:Bonko Zoo\, 167 Cathedral Ave\, Hempstead\, NY\, 11550\, United States
ATTACH;FMTTYPE=image/jpeg:https://parcnationaldumali.com/wp-content/uploads/2018/04/blog-8-copyright-min.jpg
END:VEVENT
END:VCALENDAR